BEGIN:VCALENDAR
VERSION:2.0
PRODID:-//Patrick Feeney - ECPv6.15.20//NONSGML v1.0//EN
CALSCALE:GREGORIAN
METHOD:PUBLISH
X-WR-CALNAME:Patrick Feeney
X-ORIGINAL-URL:https://patrickfeeney.ie
X-WR-CALDESC:Events for Patrick Feeney
REFRESH-INTERVAL;VALUE=DURATION:PT1H
X-Robots-Tag:noindex
X-PUBLISHED-TTL:PT1H
BEGIN:VTIMEZONE
TZID:Europe/Dublin
BEGIN:STANDARD
TZOFFSETFROM:+0000
TZOFFSETTO:+0100
TZNAME:IST
DTSTART:20250330T010000
END:STANDARD
BEGIN:DAYLIGHT
TZOFFSETFROM:+0100
TZOFFSETTO:+0000
TZNAME:GMT
DTSTART:20251026T010000
END:DAYLIGHT
BEGIN:STANDARD
TZOFFSETFROM:+0000
TZOFFSETTO:+0100
TZNAME:IST
DTSTART:20260329T010000
END:STANDARD
BEGIN:DAYLIGHT
TZOFFSETFROM:+0100
TZOFFSETTO:+0000
TZNAME:GMT
DTSTART:20261025T010000
END:DAYLIGHT
BEGIN:STANDARD
TZOFFSETFROM:+0000
TZOFFSETTO:+0100
TZNAME:IST
DTSTART:20270328T010000
END:STANDARD
BEGIN:DAYLIGHT
TZOFFSETFROM:+0100
TZOFFSETTO:+0000
TZNAME:GMT
DTSTART:20271031T010000
END:DAYLIGHT
END:VTIMEZONE
BEGIN:VEVENT
DTSTART;TZID=Europe/Dublin:20260424T000000
DTEND;TZID=Europe/Dublin:20260424T235959
DTSTAMP:20260423T133533
CREATED:20260325T134837Z
LAST-MODIFIED:20260325T134843Z
UID:1597-1776988800-1777075199@patrickfeeney.ie
SUMMARY:Bruff Church Limerick "Gospel Show"
DESCRIPTION:
URL:https://patrickfeeney.ie/event/bruff-church-limerick-gospel-show/
END:VEVENT
BEGIN:VEVENT
DTSTART;TZID=Europe/Dublin:20260425T000000
DTEND;TZID=Europe/Dublin:20260425T235959
DTSTAMP:20260423T133533
CREATED:20260318T214150Z
LAST-MODIFIED:20260318T214152Z
UID:1550-1777075200-1777161599@patrickfeeney.ie
SUMMARY:Church Concert\, Thurles\, Tipperary
DESCRIPTION:
URL:https://patrickfeeney.ie/event/church-concert-thurles-tipperary/
END:VEVENT
BEGIN:VEVENT
DTSTART;TZID=Europe/Dublin:20260426T000000
DTEND;TZID=Europe/Dublin:20260426T235959
DTSTAMP:20260423T133533
CREATED:20260318T214202Z
LAST-MODIFIED:20260318T214204Z
UID:1551-1777161600-1777247999@patrickfeeney.ie
SUMMARY:Shearwater Hotel\, Ballinasloe
DESCRIPTION:
URL:https://patrickfeeney.ie/event/shearwater-hotel-ballinasloe/
END:VEVENT
BEGIN:VEVENT
DTSTART;TZID=Europe/Dublin:20260501T000000
DTEND;TZID=Europe/Dublin:20260501T235959
DTSTAMP:20260423T133533
CREATED:20260318T214240Z
LAST-MODIFIED:20260318T214242Z
UID:1557-1777593600-1777679999@patrickfeeney.ie
SUMMARY:Wild West Festival\, Kilconly\, Galway
DESCRIPTION:
URL:https://patrickfeeney.ie/event/wild-west-festival-kilconly-galway/
END:VEVENT
BEGIN:VEVENT
DTSTART;TZID=Europe/Dublin:20260502T000000
DTEND;TZID=Europe/Dublin:20260502T235959
DTSTAMP:20260423T133533
CREATED:20260318T214253Z
LAST-MODIFIED:20260318T214255Z
UID:1558-1777680000-1777766399@patrickfeeney.ie
SUMMARY:Mayo Day Concert\, TF Theatre\, Castlebar (Guest Spot)
DESCRIPTION:
URL:https://patrickfeeney.ie/event/mayo-day-concert-tf-theatre-castlebar-guest-spot/
END:VEVENT
BEGIN:VEVENT
DTSTART;TZID=Europe/Dublin:20260503T000000
DTEND;TZID=Europe/Dublin:20260503T235959
DTSTAMP:20260423T133533
CREATED:20260318T214305Z
LAST-MODIFIED:20260318T214307Z
UID:1559-1777766400-1777852799@patrickfeeney.ie
SUMMARY:Clanree Hotel\, Letterkenny
DESCRIPTION:
URL:https://patrickfeeney.ie/event/clanree-hotel-letterkenny/
END:VEVENT
BEGIN:VEVENT
DTSTART;TZID=Europe/Dublin:20260508T000000
DTEND;TZID=Europe/Dublin:20260508T235959
DTSTAMP:20260423T133533
CREATED:20260318T214320Z
LAST-MODIFIED:20260318T214322Z
UID:1560-1778198400-1778284799@patrickfeeney.ie
SUMMARY:Killeevan Church Concert\, Monaghan
DESCRIPTION:
URL:https://patrickfeeney.ie/event/killeevan-church-concert-monaghan/
END:VEVENT
BEGIN:VEVENT
DTSTART;TZID=Europe/Dublin:20260509T000000
DTEND;TZID=Europe/Dublin:20260509T235959
DTSTAMP:20260423T133533
CREATED:20260318T214332Z
LAST-MODIFIED:20260318T214334Z
UID:1561-1778284800-1778371199@patrickfeeney.ie
SUMMARY:Allingham Arms\, Bundoran
DESCRIPTION:
URL:https://patrickfeeney.ie/event/allingham-arms-bundoran/
END:VEVENT
BEGIN:VEVENT
DTSTART;TZID=Europe/Dublin:20260513T000000
DTEND;TZID=Europe/Dublin:20260513T235959
DTSTAMP:20260423T133533
CREATED:20260318T214359Z
LAST-MODIFIED:20260318T214402Z
UID:1567-1778630400-1778716799@patrickfeeney.ie
SUMMARY:Riverside Theatre\, Coleraine (Guest Spot)
DESCRIPTION:
URL:https://patrickfeeney.ie/event/riverside-theatre-coleraine-guest-spot/
END:VEVENT
BEGIN:VEVENT
DTSTART;TZID=Europe/Dublin:20260515T000000
DTEND;TZID=Europe/Dublin:20260515T235959
DTSTAMP:20260423T133533
CREATED:20260318T214411Z
LAST-MODIFIED:20260318T214413Z
UID:1568-1778803200-1778889599@patrickfeeney.ie
SUMMARY:Diamond Coast Hotel\, Enniscrone
DESCRIPTION:
URL:https://patrickfeeney.ie/event/diamond-coast-hotel-enniscrone/
END:VEVENT
BEGIN:VEVENT
DTSTART;TZID=Europe/Dublin:20260516T000000
DTEND;TZID=Europe/Dublin:20260516T235959
DTSTAMP:20260423T133533
CREATED:20260318T214424Z
LAST-MODIFIED:20260318T214427Z
UID:1569-1778889600-1778975999@patrickfeeney.ie
SUMMARY:Diamond Coast Hotel\, Enniscrone
DESCRIPTION:
URL:https://patrickfeeney.ie/event/diamond-coast-hotel-enniscrone-2/
END:VEVENT
BEGIN:VEVENT
DTSTART;TZID=Europe/Dublin:20260527T000000
DTEND;TZID=Europe/Dublin:20260527T235959
DTSTAMP:20260423T133533
CREATED:20260318T214437Z
LAST-MODIFIED:20260318T214438Z
UID:1570-1779840000-1779926399@patrickfeeney.ie
SUMMARY:Ard Rí Hotel\, Tuam (Guest Spot)
DESCRIPTION:
URL:https://patrickfeeney.ie/event/ard-ri-hotel-tuam-guest-spot/
END:VEVENT
BEGIN:VEVENT
DTSTART;TZID=Europe/Dublin:20260530T000000
DTEND;TZID=Europe/Dublin:20260530T235959
DTSTAMP:20260423T133533
CREATED:20260325T134906Z
LAST-MODIFIED:20260325T134909Z
UID:1599-1780099200-1780185599@patrickfeeney.ie
SUMMARY:Julian’s Midfield Mayo
DESCRIPTION:
URL:https://patrickfeeney.ie/event/julians-midfield-mayo/
END:VEVENT
BEGIN:VEVENT
DTSTART;TZID=Europe/Dublin:20260531T000000
DTEND;TZID=Europe/Dublin:20260531T235959
DTSTAMP:20260423T133533
CREATED:20260318T214515Z
LAST-MODIFIED:20260318T214517Z
UID:1577-1780185600-1780271999@patrickfeeney.ie
SUMMARY:Carrickmacross Festival
DESCRIPTION:
URL:https://patrickfeeney.ie/event/carrickmacross-festival/
END:VEVENT
BEGIN:VEVENT
DTSTART;TZID=Europe/Dublin:20260606T000000
DTEND;TZID=Europe/Dublin:20260606T235959
DTSTAMP:20260423T133533
CREATED:20260318T214546Z
LAST-MODIFIED:20260318T214549Z
UID:1579-1780704000-1780790399@patrickfeeney.ie
SUMMARY:Ryandale Hotel\, Moy\, Tyrone
DESCRIPTION:
URL:https://patrickfeeney.ie/event/ryandale-hotel-moy-tyrone/
END:VEVENT
BEGIN:VEVENT
DTSTART;TZID=Europe/Dublin:20260607T000000
DTEND;TZID=Europe/Dublin:20260607T235959
DTSTAMP:20260423T133533
CREATED:20260318T214732Z
LAST-MODIFIED:20260318T214734Z
UID:1580-1780790400-1780876799@patrickfeeney.ie
SUMMARY:Shearwater Hotel\, Ballinasloe
DESCRIPTION:
URL:https://patrickfeeney.ie/event/shearwater-hotel-ballinasloe-2/
END:VEVENT
BEGIN:VEVENT
DTSTART;TZID=Europe/Dublin:20260610T000000
DTEND;TZID=Europe/Dublin:20260610T235959
DTSTAMP:20260423T133533
CREATED:20260318T214612Z
LAST-MODIFIED:20260318T214613Z
UID:1581-1781049600-1781135999@patrickfeeney.ie
SUMMARY:Island Arts Centre\, Lisburn (Guest Spot)
DESCRIPTION:
URL:https://patrickfeeney.ie/event/island-arts-centre-lisburn-guest-spot/
END:VEVENT
BEGIN:VEVENT
DTSTART;TZID=Europe/Dublin:20260613T000000
DTEND;TZID=Europe/Dublin:20260613T235959
DTSTAMP:20260423T133533
CREATED:20260318T214623Z
LAST-MODIFIED:20260318T214625Z
UID:1582-1781308800-1781395199@patrickfeeney.ie
SUMMARY:Abbey Hotel\, Donegal
DESCRIPTION:
URL:https://patrickfeeney.ie/event/abbey-hotel-donegal-2/
END:VEVENT
BEGIN:VEVENT
DTSTART;TZID=Europe/Dublin:20260614T000000
DTEND;TZID=Europe/Dublin:20260614T235959
DTSTAMP:20260423T133533
CREATED:20260318T214637Z
LAST-MODIFIED:20260318T214638Z
UID:1583-1781395200-1781481599@patrickfeeney.ie
SUMMARY:Charleville Park Hotel
DESCRIPTION:
URL:https://patrickfeeney.ie/event/charleville-park-hotel/
END:VEVENT
BEGIN:VEVENT
DTSTART;TZID=Europe/Dublin:20260616T000000
DTEND;TZID=Europe/Dublin:20260616T235959
DTSTAMP:20260423T133533
CREATED:20260318T214651Z
LAST-MODIFIED:20260318T214653Z
UID:1584-1781568000-1781654399@patrickfeeney.ie
SUMMARY:TLT Theatre\, Drogheda (Guest Spot)
DESCRIPTION:
URL:https://patrickfeeney.ie/event/tlt-theatre-drogheda-guest-spot/
END:VEVENT
BEGIN:VEVENT
DTSTART;TZID=Europe/Dublin:20260618T000000
DTEND;TZID=Europe/Dublin:20260618T235959
DTSTAMP:20260423T133533
CREATED:20260318T214704Z
LAST-MODIFIED:20260318T214705Z
UID:1585-1781740800-1781827199@patrickfeeney.ie
SUMMARY:Shrule Arts Centre\, Omagh (Guest Spot)
DESCRIPTION:
URL:https://patrickfeeney.ie/event/shrule-arts-centre-omagh-guest-spot/
END:VEVENT
BEGIN:VEVENT
DTSTART;TZID=Europe/Dublin:20260620T000000
DTEND;TZID=Europe/Dublin:20260620T235959
DTSTAMP:20260423T133533
CREATED:20260318T214722Z
LAST-MODIFIED:20260318T214723Z
UID:1586-1781913600-1781999999@patrickfeeney.ie
SUMMARY:Lavey Inn\, Cavan
DESCRIPTION:
URL:https://patrickfeeney.ie/event/lavey-inn-cavan/
END:VEVENT
BEGIN:VEVENT
DTSTART;TZID=Europe/Dublin:20260621T000000
DTEND;TZID=Europe/Dublin:20260621T235959
DTSTAMP:20260423T133533
CREATED:20260318T214802Z
LAST-MODIFIED:20260318T214804Z
UID:1595-1782000000-1782086399@patrickfeeney.ie
SUMMARY:Day with the Stars\, Roscommon Racecourse
DESCRIPTION:
URL:https://patrickfeeney.ie/event/day-with-the-stars-roscommon-racecourse/
END:VEVENT
END:VCALENDAR